BEGIN:VCALENDAR
VERSION:2.0
PRODID:-//Buffalo Healthy Living Magazine - ECPv6.15.20//NONSGML v1.0//EN
CALSCALE:GREGORIAN
METHOD:PUBLISH
X-WR-CALNAME:Buffalo Healthy Living Magazine
X-ORIGINAL-URL:https://buffalohealthyliving.com
X-WR-CALDESC:Events for Buffalo Healthy Living Magazine
REFRESH-INTERVAL;VALUE=DURATION:PT1H
X-Robots-Tag:noindex
X-PUBLISHED-TTL:PT1H
BEGIN:VTIMEZONE
TZID:America/New_York
BEGIN:DAYLIGHT
TZOFFSETFROM:-0500
TZOFFSETTO:-0400
TZNAME:EDT
DTSTART:20250309T070000
END:DAYLIGHT
BEGIN:STANDARD
TZOFFSETFROM:-0400
TZOFFSETTO:-0500
TZNAME:EST
DTSTART:20251102T060000
END:STANDARD
BEGIN:DAYLIGHT
TZOFFSETFROM:-0500
TZOFFSETTO:-0400
TZNAME:EDT
DTSTART:20260308T070000
END:DAYLIGHT
BEGIN:STANDARD
TZOFFSETFROM:-0400
TZOFFSETTO:-0500
TZNAME:EST
DTSTART:20261101T060000
END:STANDARD
BEGIN:DAYLIGHT
TZOFFSETFROM:-0500
TZOFFSETTO:-0400
TZNAME:EDT
DTSTART:20270314T070000
END:DAYLIGHT
BEGIN:STANDARD
TZOFFSETFROM:-0400
TZOFFSETTO:-0500
TZNAME:EST
DTSTART:20271107T060000
END:STANDARD
END:VTIMEZONE
BEGIN:VEVENT
DTSTART;TZID=America/New_York:20260223T170000
DTEND;TZID=America/New_York:20260223T190000
DTSTAMP:20260423T173621
CREATED:20260202T194324Z
LAST-MODIFIED:20260202T194324Z
UID:142056-1771866000-1771873200@buffalohealthyliving.com
SUMMARY:CPSE to CSE
DESCRIPTION:CPSE To CSE For Parents\nThe transition from preschool to kindergarten can be a time of excitement but it can also be a source of anxiety. \nCPSE To CSE For Parents \n\nFeb. 23\, 2026\, 5-7 PM\, via Zoom\nTransitions are made easier when families and providers understand the process.\nParticipants will:\nUnderstand the transition process\nBe able to become an active member of the transition team\nUnderstand the difference between services in CPSE and CSE and the purpose of an IEP\n*Certificate of completion available upon request*\nREGISTER TODAY! FREE EVENT!\nCall: 716-332-4170 | Email: info@parentnetworkwny.org\nFor media and news interviews regarding the workshop\, please contact Kim Kadziolka or Destiny Lopez at 716-332-4170 or please email kak@parentnetworkwny.org for time sensitive interview inquiries.
URL:https://buffalohealthyliving.com/event/cpse-to-cse-2/
CATEGORIES:Upcoming
END:VEVENT
END:VCALENDAR