BEGIN:VCALENDAR
VERSION:2.0
PRODID:-//Buffalo Healthy Living Magazine - ECPv6.15.20//NONSGML v1.0//EN
CALSCALE:GREGORIAN
METHOD:PUBLISH
X-WR-CALNAME:Buffalo Healthy Living Magazine
X-ORIGINAL-URL:https://buffalohealthyliving.com
X-WR-CALDESC:Events for Buffalo Healthy Living Magazine
REFRESH-INTERVAL;VALUE=DURATION:PT1H
X-Robots-Tag:noindex
X-PUBLISHED-TTL:PT1H
BEGIN:VTIMEZONE
TZID:America/New_York
BEGIN:DAYLIGHT
TZOFFSETFROM:-0500
TZOFFSETTO:-0400
TZNAME:EDT
DTSTART:20250309T070000
END:DAYLIGHT
BEGIN:STANDARD
TZOFFSETFROM:-0400
TZOFFSETTO:-0500
TZNAME:EST
DTSTART:20251102T060000
END:STANDARD
BEGIN:DAYLIGHT
TZOFFSETFROM:-0500
TZOFFSETTO:-0400
TZNAME:EDT
DTSTART:20260308T070000
END:DAYLIGHT
BEGIN:STANDARD
TZOFFSETFROM:-0400
TZOFFSETTO:-0500
TZNAME:EST
DTSTART:20261101T060000
END:STANDARD
BEGIN:DAYLIGHT
TZOFFSETFROM:-0500
TZOFFSETTO:-0400
TZNAME:EDT
DTSTART:20270314T070000
END:DAYLIGHT
BEGIN:STANDARD
TZOFFSETFROM:-0400
TZOFFSETTO:-0500
TZNAME:EST
DTSTART:20271107T060000
END:STANDARD
END:VTIMEZONE
BEGIN:VEVENT
DTSTART;TZID=America/New_York:20260327T110000
DTEND;TZID=America/New_York:20260327T150000
DTSTAMP:20260423T174115
CREATED:20260323T190639Z
LAST-MODIFIED:20260323T190639Z
UID:143168-1774609200-1774623600@buffalohealthyliving.com
SUMMARY:Women’s Wellness Day
DESCRIPTION:The Community Health Center of Buffalo\, Inc. Women’s Health Department will host a free Women’s Wellness Day on Friday\, March 27\, from 11 a.m. to 3 p.m.\, at 2715 Highland Avenue\, in Niagara Falls\, NY.  \nCommunity Health Center of Buffalo\, Inc. to provide info about services:\n• Women’s Health and Family Planning\n• Behavioral Health\n• Blood Pressure Checks\n• STI Screenings\n• And more  \nResources and Activities:\n• Get an introduction to Yoga – mini sessions will be offered during the event\n• Explore your creative side with art resources by Niagara Arts and Cultural Center\n• Enjoy fresh veggies and fruits from FeedMore WNY Farm Market Truck (noon – 2 p.m.)\n• Learn about a variety of financial resources from BankOnBuffalo\n• Taste some healthy snacks from the Fidelis Care Lunchology Program\n• Educate yourself about the symptoms and risks for gynecologic cancers with resources from Ovarian Cancer Project\n• Find out about support services provided by the New York State Cancer Services Program\n• Receive a complimentary Hygiene Tote Bag from Dignity Grows Buffalo through the Buffalo Jewish Federation (while supplies last)  \nMammograms\, BY APPOINTMENT ONLY\, through Roswell Park Comprehensive Cancer Center EDDY Mobile Mammography. For a mammogram appointment\, call 716-986-9199\, ext. 4015. \nPlus\, attendees who are age 21 or over can enter to win select concert tickets at Darien Lake! \nIf you have questions\, call the Community Health Center of Buffalo\, Inc. at 716-986-9199\, ext. 5007.
URL:https://buffalohealthyliving.com/event/womens-wellness-day/
CATEGORIES:Upcoming
END:VEVENT
END:VCALENDAR