BEGIN:VCALENDAR
VERSION:2.0
PRODID:-//Buffalo Healthy Living Magazine - ECPv6.15.20//NONSGML v1.0//EN
CALSCALE:GREGORIAN
METHOD:PUBLISH
X-WR-CALNAME:Buffalo Healthy Living Magazine
X-ORIGINAL-URL:https://buffalohealthyliving.com
X-WR-CALDESC:Events for Buffalo Healthy Living Magazine
REFRESH-INTERVAL;VALUE=DURATION:PT1H
X-Robots-Tag:noindex
X-PUBLISHED-TTL:PT1H
BEGIN:VTIMEZONE
TZID:America/New_York
BEGIN:DAYLIGHT
TZOFFSETFROM:-0500
TZOFFSETTO:-0400
TZNAME:EDT
DTSTART:20250309T070000
END:DAYLIGHT
BEGIN:STANDARD
TZOFFSETFROM:-0400
TZOFFSETTO:-0500
TZNAME:EST
DTSTART:20251102T060000
END:STANDARD
BEGIN:DAYLIGHT
TZOFFSETFROM:-0500
TZOFFSETTO:-0400
TZNAME:EDT
DTSTART:20260308T070000
END:DAYLIGHT
BEGIN:STANDARD
TZOFFSETFROM:-0400
TZOFFSETTO:-0500
TZNAME:EST
DTSTART:20261101T060000
END:STANDARD
BEGIN:DAYLIGHT
TZOFFSETFROM:-0500
TZOFFSETTO:-0400
TZNAME:EDT
DTSTART:20270314T070000
END:DAYLIGHT
BEGIN:STANDARD
TZOFFSETFROM:-0400
TZOFFSETTO:-0500
TZNAME:EST
DTSTART:20271107T060000
END:STANDARD
END:VTIMEZONE
BEGIN:VEVENT
DTSTART;TZID=America/New_York:20260330T080000
DTEND;TZID=America/New_York:20260529T170000
DTSTAMP:20260423T174221
CREATED:20260302T182414Z
LAST-MODIFIED:20260330T172538Z
UID:143121-1774857600-1780074000@buffalohealthyliving.com
SUMMARY:April Healthy Happenings
DESCRIPTION:April 4\, 6\, 8\, 9\, 11 am to 9 pm. Spring Recess at Riverworks. Free roller-skating courtesy of Independent Health. \nApril 7. 6 to 8:30 pm. Specially Designed Instruction. Parent Network via Zoom. 716-332-4170. \nApril 10. 12 to 2 pm. 2026 Community Impact Conference. Addiction Prevention. Hilton Inn Buffalo Airport\, Cheektowaga. Eventbrite. \nApril 11. 10 am to 1 pm. 4th Annual Recreational Festival. 425 Meyer Rd.\, W. Seneca. Parent Network. 716-332-4170.  \nApril 13. 6:30 to 8:00 pm. WNY Family and Caregiver Group via Zoom. Parent Network. 716-332-4170. \nApril 14. 6:30 to 8:00 pm. Get Ready for Kindergarten via Zoom. Parent Network. 716-332-4170. \nApril 15. 11:30 am. Cataract Surgery Lunch & Learn. Fichte Endl & Elmer Eyecare. My Tomato Pie. 1-800-309-2020.  \nApril 15. 11 am to 1 pm. Fostering Self-Determination via Zoom. Parent Network. 716-332-4170. \nApril 16. 5 pm. 6th Annual Dyngus Day Parade. Memorial Drive\, Tonawanda. stepoutbuffalo.com. \nApril 16. 5:30 to 8:30 pm. Girl Scouts of WNY Women of Distinction. Salvatore’s Hospitality\, Depew \nApril 16. 6 to 8 pm. Community Forum Addiction Prevention. Zoom. WNYIL. Erin Zych at 716-836-0822\, x205 or EZych@wnyil.org. \nApril 16. 6 pm. IEP for Families Via Zoom. Parent Network. 716-332-4170. \nApril 18. 12 to 3 pm. Restore and Unwind Wellness Marketplace. 1455 Kensington Ave. Buffalo. Eventbrite. \nApril 24. 5 to 8 pm. Botanical Artisan Market. Buffalo & Erie Botanical Gardens. stepoutbuffalo.com  \nApril 24 & 25. UB Symposium. Autism Spectrum and Other Disorders. Friday 2:45 and Sat 8 am to 7 pm. Visit go.buffalo.edu.sss  \nApril 25 & 26. All day. 62nd Annual WNY Maple Festival. Park Square Franklinville\, NY 14737.  \nApril 25 & 26. 11 am to 3 pm. 13th Annual Buffalo Cherry Blossom Festival. History Museum\, 1 Museum Court\, Buffalo. stepoutbuffalo.com. \nApril 15. 10 am to 2 pm. Spring Fling @ Eyewear Gallery at Fichte\, Endl & Elmer. Prizes\, Giveways\, 2825 Niagara Falls Blvd.\, 14228. \nApril 29. Breastfeeding\, Creating a Chestfeeding\, and Lactation Friendly Worksite. United Way.742 Delaware Ave.\, Buffalo. healthequity@erie.gov or 716-858-4752. \nApril 29. 6 to 8:30 pm. 2026 Hosikids Annual Taste of Ghana. Congregation Shir Shalom. Eventbrite. \nONGOING \nAKG Art Museum. https://buffaloakg.org/events \nAwe-Inspiring Hikes. https://tinyurl.com/2p8ae7ej  \nBecker Farm. www.beckerfarms.com.  \nBreast Cancer Network of WNY. Numerous Ongoing Events. https://www.bcnwny.org/calendar  \nBuffalo History Museum. Pan American Exhibition. www.visitbuffaloniagara.com/events \nBuffalo Museum of Science. https://www.sciencebuff.org.  \nBuffalo Zoo. www.buffalozoo.org Burchfield Penney Art Center Events. https://burchfieldpenney.org/events/  \nCanalside. https://buffalowaterfront.com (Public Ice Skating\, Kids Club Sundays\, Special Event Saturdays\, Roar Wednesdays \nCentral Library Buffalo & Erie County. Classes and More. dardend@buffalolib.org  \nCommunity Conversations: https://tinyurl.com/67n3stvc \nCPR & AED Training: https://wnyhe.com/schedule  \nExplore and More Museum. https://exploreandmore.org  \nIndependent Health Events https://www.independenthealth.com/in-the-community/events/calendar-of-events JCC Classes\, Events\, Concerts\, etc. www.jccbuffalo.org  \nKaleida Health Events. www.kaleidahealth.org/events  \nKelkenberg Farm. www.kelkenbergfarm.com  \nPfeiffer Nature Center. https://pfeiffernaturecenter.org.  \nReddy Bikeshare. info@reddybikeshare.com Tifft Nature Preserve. Wellness Walks Thursdays at 10 am. Visit Buffalo Niagara. https://www.visitbuffaloniagara.com.  \nWeekday Meditations. www.coquihalla.com.  \nYour Hometown Health & Community Conversations TV. https://tinyurl.com/56t88nzm.  \n\nOTHER RESOURCES \nClinical Trials: https://tinyurl.com/46v4k8tx  \nClinics & Healthcare: www3.erie.gov/health/clinics-healthcare-services Erie County Health Dept. https://www3.erie.gov/health/  \nFitness Tools. https://buffalohealthyliving.com/fitness-tools/ Health Equity: www3.erie.gov/health/health-equity NYS Dept. of Health: https://www.health.ny.gov.  \nNiagara County Dept. of Health. https://tinyurl.com/eandr79x  \nOpioids. www3.erie.gov/health/opioids-other-substances  \nQuit Smoking. https://nysmokefree.com/menthol Recipes: https://buffalohealthyliving.com/category/all-articles/recipes  \nSupport Groups: https://buffalohealthyliving.com/support-groups Volunteer Opportunities: https://buffalohealthyliving.com/volunteer-opportunities/ World Health Organization: https://www.who.int   \nSee more events\, resources\,  \n& healthy happenings at www.buffalohealthyliving.com and visitbuffaloniagara.com  \n 
URL:https://buffalohealthyliving.com/event/april-healthy-happenings/
CATEGORIES:Ongoing,Upcoming
ATTACH;FMTTYPE=image/jpeg:https://buffalohealthyliving.com/wp-content/uploads/Spring-Inspiration-New-Photo.jpg
END:VEVENT
BEGIN:VEVENT
DTSTART;TZID=America/New_York:20260509T090000
DTEND;TZID=America/New_York:20260509T170000
DTSTAMP:20260423T174221
CREATED:20260216T140712Z
LAST-MODIFIED:20260323T190122Z
UID:142204-1778317200-1778346000@buffalohealthyliving.com
SUMMARY:5th Annual WNY Pride 5K Fun Run/Walk andLGBTQ+ Wellness Event
DESCRIPTION:Niagara Pride’s WNY Pride 5K & LGBTQ+ Wellness Event returns in 2026\, with a number of new elements and features\, making it not only the premier LGBTQ+ health and wellness focused event in all of WNY\, but also the event to kick off Pride Season in our area!  \nAll funds raised will go towards our efforts to create the first mobile Pride unit in Niagara County. \n​The 5K is an all-inclusive event\, allowing for individuals of all ages\, ability levels\, and experiences to participate.  Individuals can run or walk the event.  We encourage local businesses\, corporations\, agencies\, organizations\, and Pride groups to enter as teams\, showing your support for the WNY LGBTQ+ community.   \nFor 2026\, the WNY Pride 5K & LGBTQ+ Wellness Event will feature: \nSeveral local health providers as vendors sharing information about LGBTQ+ specific and/or LGBTQ+ affirming programs and services \nOpportunities for on-site testing and screenings \nThe WNY Shopping with Pride Village – LGBTQ+ and ally vendors will be present to sell various items\, crafts\, and merchandise \nDrag performances from various local performers \nand new this year…The WNY Pride 5K Drag Race – watch your favorite local drag performers race to the finish line to see who will be crowned WNY’s Fastest Drag Superstar!
URL:https://buffalohealthyliving.com/event/5th-annual-wny-pride-5k-fun-run-walk-lgbtq-wellness-event/
LOCATION:SUNY Niagara\, 3111 Saunders Settlement Road\, Sanborn\, 14132\, United States
CATEGORIES:Upcoming
ORGANIZER;CN="Niagara Pride%2C Inc.":MAILTO:info@niagarapride.org
END:VEVENT
END:VCALENDAR