BEGIN:VCALENDAR
VERSION:2.0
PRODID:-//Buffalo Healthy Living Magazine - ECPv6.15.20//NONSGML v1.0//EN
CALSCALE:GREGORIAN
METHOD:PUBLISH
X-WR-CALNAME:Buffalo Healthy Living Magazine
X-ORIGINAL-URL:https://buffalohealthyliving.com
X-WR-CALDESC:Events for Buffalo Healthy Living Magazine
REFRESH-INTERVAL;VALUE=DURATION:PT1H
X-Robots-Tag:noindex
X-PUBLISHED-TTL:PT1H
BEGIN:VTIMEZONE
TZID:America/New_York
BEGIN:DAYLIGHT
TZOFFSETFROM:-0500
TZOFFSETTO:-0400
TZNAME:EDT
DTSTART:20250309T070000
END:DAYLIGHT
BEGIN:STANDARD
TZOFFSETFROM:-0400
TZOFFSETTO:-0500
TZNAME:EST
DTSTART:20251102T060000
END:STANDARD
BEGIN:DAYLIGHT
TZOFFSETFROM:-0500
TZOFFSETTO:-0400
TZNAME:EDT
DTSTART:20260308T070000
END:DAYLIGHT
BEGIN:STANDARD
TZOFFSETFROM:-0400
TZOFFSETTO:-0500
TZNAME:EST
DTSTART:20261101T060000
END:STANDARD
BEGIN:DAYLIGHT
TZOFFSETFROM:-0500
TZOFFSETTO:-0400
TZNAME:EDT
DTSTART:20270314T070000
END:DAYLIGHT
BEGIN:STANDARD
TZOFFSETFROM:-0400
TZOFFSETTO:-0500
TZNAME:EST
DTSTART:20271107T060000
END:STANDARD
END:VTIMEZONE
BEGIN:VEVENT
DTSTART;TZID=America/New_York:20260605T103000
DTEND;TZID=America/New_York:20260606T210000
DTSTAMP:20260423T203111
CREATED:20260406T192806Z
LAST-MODIFIED:20260406T192806Z
UID:143589-1780655400-1780779600@buffalohealthyliving.com
SUMMARY:American Soundscapes
DESCRIPTION:Our season concludes with three iconic compositions and two orchestral world premieres. The program opens with Bernstein’s toe-tapping Three Dance Episodes from On the Town\, a comedic Broadway hit filled with dance\, sentimentality\, and lightheartedness. The musical spirit of America continues with Copland’s emblematic and patriotic Appalachian Spring: Suite\, which blooms with optimism and brims with the tender promise of new life. Starting with its idiosyncratic clarinet glissando\, Gershwin’s jazz-infused Rhapsody in Blue swings and sweeps listeners into a different American soundscape where an improvisational-sounding piano line takes the center of this Jazz-age stage. These quintessential American pieces are paired with two works rooted in our own Western New York. Michael Daugherty’s Niagara Falls is a musical journey through one of the world’s great scenic wonders\, while Buffalo-born Paul Moravec’s Serenade—inspired by the Great Western Staircase at the New York State Capitol\, a marvel of intricate sculpture and history—offers a stirring narrative of ascent and aspiration. This closing concert provides a rich musical portrait of America—both past and present—bound to inspire listeners to appreciate the musical and natural beauty surrounding them. \nJoAnn Falletta\, conductor \nJon Kimura Parker\, piano \nBERNSTEIN Three Dance Episodes from On the Town \nMICHAEL DAUGHERTY Niagara Falls (Orchestral World Premiere) \nCOPLAND Appalachian Spring: Suite \nPAUL MORAVEC Serenade (Orchestral World Premiere) \nGERSHWIN Rhapsody in Blue \n Happens on the following Dates:\nJun 5\, 2026\, 10:30am to 12:00pm Timezone: Eastern Time (US & Canada)\nJun 6\, 2026\, 7:30pm to 9:00pm Timezone: Eastern Time (US & Canada)
URL:https://buffalohealthyliving.com/event/american-soundscapes/
LOCATION:Kleinhans Music Hall\, 11 Symphony Circle \, Buffalo\, NY\, 14202\, United States
CATEGORIES:Upcoming
ORGANIZER;CN="Buffalo Philharmonic Orchestra":MAILTO:boxoffice@bpo.org
END:VEVENT
END:VCALENDAR